BEGIN:VCALENDAR
VERSION:2.0
PRODID:-// - ECPv5.14.0.4//NONSGML v1.0//EN
CALSCALE:GREGORIAN
METHOD:PUBLISH
X-ORIGINAL-URL:https://www.grenoble-rando-universite.fr
X-WR-CALDESC:évènements pour 
BEGIN:VTIMEZONE
TZID:UTC
BEGIN:STANDARD
TZOFFSETFROM:+0000
TZOFFSETTO:+0000
TZNAME:UTC
DTSTART:20250101T000000
END:STANDARD
TZID:Europe/Paris
BEGIN:DAYLIGHT
TZOFFSETFROM:+0100
TZOFFSETTO:+0200
TZNAME:CEST
DTSTART:20250330T010000
END:DAYLIGHT
BEGIN:STANDARD
TZOFFSETFROM:+0200
TZOFFSETTO:+0100
TZNAME:CET
DTSTART:20251026T010000
END:STANDARD
END:VTIMEZONE
BEGIN:VEVENT
DTSTART;TZID=UTC:20251108T090000
DTEND;TZID=UTC:20251108T170000
DTSTAMP:20260422T173852
CREATED:20251028T064047Z
LAST-MODIFIED:20251105T205517Z
UID:15605-1762592400-1762621200@www.grenoble-rando-universite.fr
SUMMARY:Samedi 8 Nov : Dent du Loup/Sornin (600m)
DESCRIPTION:========== Dent du Loup / Sornin  =============== \nCette rando en boucle présente plusieurs facettes: \n\nUn coté assez classique avec  de beaux points de vue sur Grenoble et les montagnes environnantes\, que la neige aura un peu blanchies\nUn coté plus sauvage avec les falaises de la Dent du Loup\n\nDénivelé : 600m .\nNiveau: Découverte/Intermédiaire      Rythme tranquille \n2h15 de montée \, 2h30 de traversée/descente \nAltitude d’arrivée : 1600m \nEquipement\nVêtements chauds ! Bonnet\,gants \,  anorak/veste .\nLunettes de soleil . Crême solaire\nIl peut faire chaud pendant la montée\, mais froid après … Picnic\, 1l d’eau . \nLes bâtons sont utiles . Je peux en apporter quelques uns \nRendez vous : 9h station “Le Prisme” du Tramway ligne C \nCoût / Inscription:\n5€ à payer immédiatement sur HelloAsso\nhttps://www.helloasso.com/associations/alpes-la/evenements/bernard-rando-46\n+ covoiturage ( 4€ ) à payer le jour de la sortie \, Prenez de la monnaie \nIl faudra une 2e voiture en plus de la mienne…  \nClôture des inscriptions : Jeudi 21h\n( pas de mail de confirmation : je mettrai sur le site la liste des inscrits ) \nA Samedi ! \n  \n \n 
URL:https://www.grenoble-rando-universite.fr/event/dent-du-loup-sornin-600m/
CATEGORIES:Rando à pied
ATTACH;FMTTYPE=image/jpeg:https://www.grenoble-rando-universite.fr/wp-content/uploads/2025/10/sornin1.jpg
END:VEVENT
BEGIN:VEVENT
DTSTART;TZID=Europe/Paris:20251108T120000
DTEND;TZID=Europe/Paris:20251109T150000
DTSTAMP:20260422T173852
CREATED:20251020T071803Z
LAST-MODIFIED:20251114T085130Z
UID:15593-1762603200-1762700400@www.grenoble-rando-universite.fr
SUMMARY:8-9 Novembre We Bivouac cabane découverte dans le Vercors avec le Crous
DESCRIPTION:Le Crous Grenoble-Alpes et le Club Grenoble Rando Université te proposent une rando-bivouac découverte\, direction le Vercors:\nRandonnée financée par le Crous\, ouverte à tous les étudiant.e.s (adhérents ou non du club). \n\nViens prendre l’air\, randonner et passer une nuit en montagne !\nAu programme : montée samedi après-midi pour rejoindre notre lieu de bivouac\, suivie d’une nuit à la belle\, sous tente ou en cabane selon la météo et l’envie de chacun. Dimanche\, petite balade puis retour pour prendre le bus en début d’après-midi.\n\nDifficulté : Niveau découverte\, donc accessible à tous·tes ! \n\n\nTransport et horaires :\n-RDV de départ : samedi matin ( horaires et lieu de rdv à venir)\n\n– Car région ( pris en charge par l’association)\n– Retour dimanche dans l’après-midi\n\n\n\nÉquipement :Marche : chaussures de randonnée ou chaussures de trail ou baskets \nVêtements  : vêtements chauds – bonnet – veste de pluie. Equipement à confirmer selon la météo\, on refera le point avant la sortie. \nPetit matériel : chapeau – lunettes de soleil/crème solaire\, cuillère\, écocup – 1\,5L d’eau minimum \nNuit :  Matelas – Sac couchage 5°C ou 0°C confort – Tentes ou abri “Tarp” prévues par le club \nCuisine : Matériel de cuisine prévu par le club \n(du matériel peut être prêté par le club) \n\n\nPrêt de matériel :\n\nMatériel prêté à récupérer au local du club lors de la réunion de préparation de la sortie. \n\n\nTarif :\n\n\n5€ (participation pour les repas soir + petit déjeuner) \n\nRepas :– samedi et dimanche midi : chacun·e amène ses 2 pique-niques– samedi soir et dimanche matin : repas végétariens prévus par l’encadrant. Si tu veux emmener un brin d’apéro ou de quoi partager n’hésite pas 😉\nInscriptions : 10 places\n\nhttps://www.helloasso.com/associations/alpes-la/evenements/8-9-novembre-rando-bivouac-decouverte-en-vercors-avec-le-crous \n\n\n– RDV obligatoire : le Jeudi 6 Novembre à 18h au local du club : Immeuble Collectif Voisin / Alpes Là (1er étage) : 11 Place André Charpin\, 38100 Grenoble.\nLe matériel sera récupéré lors de la réunion et ramené au local après la sortie. \n\nN’hésite pas à poser une question en commentaire ci-dessous \nA bientôt ! \n\n\nPour participer aux randonnées organisées par notre club avec le Crous\, inscris-toi à la newsletter du Crous ou consulte l’agenda du Crous.
URL:https://www.grenoble-rando-universite.fr/event/8-9-novembre-we-bivouac-cabane-decouverte-dans-le-vercors-avec-le-crous/
CATEGORIES:Rando à pied
ATTACH;FMTTYPE=image/jpeg:https://www.grenoble-rando-universite.fr/wp-content/uploads/2023/05/cabane-bivouac-roybon.jpg
END:VEVENT
END:VCALENDAR