BEGIN:VCALENDAR
VERSION:2.0
PRODID:-// - ECPv5.14.0.4//NONSGML v1.0//EN
CALSCALE:GREGORIAN
METHOD:PUBLISH
X-ORIGINAL-URL:https://www.grenoble-rando-universite.fr
X-WR-CALDESC:évènements pour 
BEGIN:VTIMEZONE
TZID:UTC
BEGIN:STANDARD
TZOFFSETFROM:+0000
TZOFFSETTO:+0000
TZNAME:UTC
DTSTART:20260101T000000
END:STANDARD
END:VTIMEZONE
BEGIN:VEVENT
DTSTART;TZID=UTC:20260321T084500
DTEND;TZID=UTC:20260321T173000
DTSTAMP:20260422T110112
CREATED:20260312T081251Z
LAST-MODIFIED:20260318T185056Z
UID:16095-1774082700-1774114200@www.grenoble-rando-universite.fr
SUMMARY:[** complet **] Samedi 21 Mars: Lac Souterrain / Cascade  (600m)
DESCRIPTION:[ ce n’est pas de la spéléo : le lac  est en entrée de grotte  ] \nUne rando en deux parties\, pour découvrir 2 sites magiques dans les Gorges de la Bourne : La grotte de Gournier avec son lac souterrain\, et la cascade monumentale du Bournillon (300m) que l’on ira voir de plus près \nDénivelé : 600m .\nNiveau: Découverte/Intermédiaire   Sentier parfois rocailleux \nEquipement\nIl faut des chaussures qui ne glissent pas \nLe Club fournit le casque ( je l’apporte sur place) \nPicnic\, 1\,5l d’eau . Bonnet  . Polaire chaude Coupe vent.  Lunettes de soleil . Casquette .  Il fait chaud pendant la montée\, et frais  après \nCoût: 15€ à payer immédiatement sur HelloAsso ( inclut le forfait covoiturage ) \nRendez vous : 8h45 station “le prisme” du Tramway C \nINSCRIPTION : sur le lien HelloAsso avant Jeudi 21h\nhttps://www.helloasso.com/associations/alpes-la/evenements/bernard-rando-49 \npas de mail de confirmation … je mettrai sur le site la liste finale des inscrits \nremarque: modification du plan initial\, on ne fera pas la grotte de Bournillon : pb d’accès
URL:https://www.grenoble-rando-universite.fr/event/samedi-21-mars-la-rando-des-lacs-souterrains-650m/
CATEGORIES:Rando à pied,Rando-Grotte
ATTACH;FMTTYPE=image/jpeg:https://www.grenoble-rando-universite.fr/wp-content/uploads/2022/03/20210320_131954z.jpg
END:VEVENT
END:VCALENDAR