BEGIN:VCALENDAR
VERSION:2.0
PRODID:-// - ECPv5.14.0.4//NONSGML v1.0//EN
CALSCALE:GREGORIAN
METHOD:PUBLISH
X-ORIGINAL-URL:https://www.grenoble-rando-universite.fr
X-WR-CALDESC:évènements pour 
BEGIN:VTIMEZONE
TZID:UTC
BEGIN:STANDARD
TZOFFSETFROM:+0000
TZOFFSETTO:+0000
TZNAME:UTC
DTSTART:20260101T000000
END:STANDARD
END:VTIMEZONE
BEGIN:VEVENT
DTSTART;TZID=UTC:20260329T080000
DTEND;TZID=UTC:20260329T190000
DTSTAMP:20260422T110220
CREATED:20260323T213929Z
LAST-MODIFIED:20260325T162605Z
UID:16120-1774771200-1774810800@www.grenoble-rando-universite.fr
SUMMARY:Dimanche 29 mars - Traversée par le Goutaroux - Vercors Est
DESCRIPTION:Bonjour à toutes et à tous\,\nLes beaux jours reviennent\, on vous propose d’aller admirer le mont Aiguille depuis un sommet proche\, le Goutaroux.\nDirection le Vercors Est\, au départ de Clelles jusqu’à St-Michel-Les-Portes. Au programme une traversée principalement en forêt puis le long des crêtes avec pour objectif le sommet du Goutaroux (1543m). On tentera de trouver les ammonites qui se trouvent en haut.\nRando sans neige car faible altitude.\n  \nNiveau : intermédiaire\nDénivelé : 945 m\, 14 km en traversée.\nPas de passage technique.\nMatériel : Classique. Les recommandations sont disponibles juste ici. Pour rappel nous n’aurons pas de neige. \n  \nTransport : en TER depuis Grenoble\nRdv de départ : Gare de Grenoble à 7h55 (TER direction Gap à 8h09).\nRetour prévu : 19h10 (Bus à 17h45).\nTarif :\n\n5 € de contribution au fonctionnement du club\n10 € pour le TER/Bus (billets fournis)\n\n  \nInscription sur HELLOASSO: https://www.helloasso.com/associations/alpes-la/evenements/ludovic-rando-1\nFermeture des inscriptions vendredi 27/03 dans la soirée.\nSi vous avez une carte Illico Solidaire\, n’hésitez pas à nous l’indiquer en commentaire\, ça permettra au club de bénéficier du tarif réduit.\nN’hésites pas à poser une question en commentaire ci-dessous\nA bientôt ! \nJulien et Ludovic\, encadrants bénévoles
URL:https://www.grenoble-rando-universite.fr/event/dimanche-29-mars-traversee-par-le-goutaroux-vercors-est/
CATEGORIES:Rando à pied
ATTACH;FMTTYPE=image/jpeg:https://www.grenoble-rando-universite.fr/wp-content/uploads/2026/03/goutaroux.jpg
END:VEVENT
END:VCALENDAR