BEGIN:VCALENDAR
VERSION:2.0
PRODID:-// - ECPv5.14.0.4//NONSGML v1.0//EN
CALSCALE:GREGORIAN
METHOD:PUBLISH
X-ORIGINAL-URL:https://www.grenoble-rando-universite.fr
X-WR-CALDESC:évènements pour 
BEGIN:VTIMEZONE
TZID:Europe/Paris
BEGIN:DAYLIGHT
TZOFFSETFROM:+0100
TZOFFSETTO:+0200
TZNAME:CEST
DTSTART:20230326T010000
END:DAYLIGHT
BEGIN:STANDARD
TZOFFSETFROM:+0200
TZOFFSETTO:+0100
TZNAME:CET
DTSTART:20231029T010000
END:STANDARD
BEGIN:DAYLIGHT
TZOFFSETFROM:+0100
TZOFFSETTO:+0200
TZNAME:CEST
DTSTART:20240331T010000
END:DAYLIGHT
BEGIN:STANDARD
TZOFFSETFROM:+0200
TZOFFSETTO:+0100
TZNAME:CET
DTSTART:20241027T010000
END:STANDARD
TZID:UTC
BEGIN:STANDARD
TZOFFSETFROM:+0000
TZOFFSETTO:+0000
TZNAME:UTC
DTSTART:20240101T000000
END:STANDARD
END:VTIMEZONE
BEGIN:VEVENT
DTSTART;TZID=Europe/Paris:20231204T080000
DTEND;TZID=Europe/Paris:20240323T170000
DTSTAMP:20260426T043428
CREATED:20231214T234546Z
LAST-MODIFIED:20231214T234736Z
UID:11879-1701676800-1711213200@www.grenoble-rando-universite.fr
SUMMARY:Programme Prévisionnel Hiver 2024
DESCRIPTION:Le programme* est à découvrir ici\n*Des randos sont ajoutées\, modifiées ou supprimées suivant les conditions météo et autres évolutions.
URL:https://www.grenoble-rando-universite.fr/event/programme-previsionnel-hiver-2024/
CATEGORIES:Rando à pied,Rando Raquettes
ATTACH;FMTTYPE=image/jpeg:https://www.grenoble-rando-universite.fr/wp-content/uploads/2023/01/rando-raquettes-vercors.jpg
END:VEVENT
BEGIN:VEVENT
DTSTART;TZID=UTC:20240210T080000
DTEND;TZID=UTC:20240211T170000
DTSTAMP:20260426T043428
CREATED:20240131T092657Z
LAST-MODIFIED:20250221T182146Z
UID:12219-1707552000-1707670800@www.grenoble-rando-universite.fr
SUMMARY:10 et 11 février 2024 - Jpeux Pas J'ai Raquettes
DESCRIPTION:J’Peux Pas J’ai Raquettes 2024 \n \nToutes les informations et inscriptions \n5 sorties sur ces deux jours
URL:https://www.grenoble-rando-universite.fr/event/10-et-11-fevrier-2024-jpeux-pas-jai-raquettes/
CATEGORIES:Evènement,Rando à pied,Rando Raquettes
ATTACH;FMTTYPE=image/jpeg:https://www.grenoble-rando-universite.fr/wp-content/uploads/2024/01/tete-site-2.jpg
END:VEVENT
BEGIN:VEVENT
DTSTART;TZID=UTC:20240210T080000
DTEND;TZID=UTC:20240211T170000
DTSTAMP:20260426T043428
CREATED:20240131T174231Z
LAST-MODIFIED:20260205T100711Z
UID:12261-1707552000-1707670800@www.grenoble-rando-universite.fr
SUMMARY:10-11/02 - We Igloo 2024
DESCRIPTION:Un week-end raquettes pour construire son igloo et dormir dedans bien sûr ! \nProgramme :\nSamedi matin : montée (environ 800m de dénivelé) / après-midi : construction des igloos\nDimanche matin : randonnée à un col ou petit sommet / après-midi : descente \nInscriptions : helloasso.com/associations/alpes-la/evenements/inscription-we-raquettes-igloo-avec-vincent-10-11-fevrier-2024 \nRéunion obligatoire pour organiser la sortie et emprunter le matériel le jeudi 8 février à 18h au local \nMatériel à avoir ou à emprunter au club : \n\nPique-nique pour le midi\, 1L d’eau minimum\nRaquettes à neige\, kit sécurité DVA-Pelle-Sonde\, bâtons\nvoir la liste de matériel conseillée pour les randos raquettes\nPour la nuit en igloo :\n– bâche (prêtée par le club)\n– matelas (mousse ou gonflable)\n– sac de couchage (température confort 0°C ou mieux)\n\nCoûts : \n\nParticipation à l’encadrement : 10€ pour le we\nContribution en cas de prêt de matériel : raquettes et/ou kit sécurité DVA-Pelle-Sonde et/ou sac de couchage : 10€ pour le we\nprêt gratuit de bâtons\, guêtres\, sac à dos\, matelas\,… dans la limite des stocks disponibles\n\n+ partage des frais de transport (bus ou covoiturage) : 10-15€/personne maximum \nInscriptions : (8 à 10 places) sur Helloasso : helloasso.com/associations/alpes-la/evenements/inscription-we-raquettes-igloo-avec-vincent-10-11-fevrier-2024\n \n+ Réunion obligatoire pour organiser la sortie et emprunter le matériel le jeudi 8 février à 18h au local du club\n \nLe matériel emprunté sera rendu et déposé au local le soir de la sortie \nPense à regarder ta boite mail à l’approche de la sortie ! \nDestination à confirmer suivant météo et conditions neige : Beaufortain ou Ecrins (si on a des voitures) ou Belledonne … \nRandonnée encadrée par un accompagnateur en montagne
URL:https://www.grenoble-rando-universite.fr/event/10-11-02-we-igloo-2024/
CATEGORIES:Rando Raquettes
ATTACH;FMTTYPE=image/jpeg:https://www.grenoble-rando-universite.fr/wp-content/uploads/2019/12/igloo-construction-rando-raquettes.jpg
ORGANIZER;CN="Vincent%20Accompagnateur%20en%20Montagne":MAILTO:vincent.martinmasse+rando@gmail.com
END:VEVENT
END:VCALENDAR