BEGIN:VCALENDAR
VERSION:2.0
PRODID:-// - ECPv5.14.0.4//NONSGML v1.0//EN
CALSCALE:GREGORIAN
METHOD:PUBLISH
X-ORIGINAL-URL:https://www.grenoble-rando-universite.fr
X-WR-CALDESC:évènements pour 
BEGIN:VTIMEZONE
TZID:Europe/Paris
BEGIN:DAYLIGHT
TZOFFSETFROM:+0100
TZOFFSETTO:+0200
TZNAME:CEST
DTSTART:20230326T010000
END:DAYLIGHT
BEGIN:STANDARD
TZOFFSETFROM:+0200
TZOFFSETTO:+0100
TZNAME:CET
DTSTART:20231029T010000
END:STANDARD
BEGIN:DAYLIGHT
TZOFFSETFROM:+0100
TZOFFSETTO:+0200
TZNAME:CEST
DTSTART:20240331T010000
END:DAYLIGHT
BEGIN:STANDARD
TZOFFSETFROM:+0200
TZOFFSETTO:+0100
TZNAME:CET
DTSTART:20241027T010000
END:STANDARD
TZID:UTC
BEGIN:STANDARD
TZOFFSETFROM:+0000
TZOFFSETTO:+0000
TZNAME:UTC
DTSTART:20240101T000000
END:STANDARD
END:VTIMEZONE
BEGIN:VEVENT
DTSTART;TZID=Europe/Paris:20231204T080000
DTEND;TZID=Europe/Paris:20240323T170000
DTSTAMP:20260426T043430
CREATED:20231214T234546Z
LAST-MODIFIED:20231214T234736Z
UID:11879-1701676800-1711213200@www.grenoble-rando-universite.fr
SUMMARY:Programme Prévisionnel Hiver 2024
DESCRIPTION:Le programme* est à découvrir ici\n*Des randos sont ajoutées\, modifiées ou supprimées suivant les conditions météo et autres évolutions.
URL:https://www.grenoble-rando-universite.fr/event/programme-previsionnel-hiver-2024/
CATEGORIES:Rando à pied,Rando Raquettes
ATTACH;FMTTYPE=image/jpeg:https://www.grenoble-rando-universite.fr/wp-content/uploads/2023/01/rando-raquettes-vercors.jpg
END:VEVENT
BEGIN:VEVENT
DTSTART;TZID=UTC:20240224T080000
DTEND;TZID=UTC:20240227T170000
DTSTAMP:20260426T043430
CREATED:20240131T174904Z
LAST-MODIFIED:20240219T145207Z
UID:12263-1708761600-1709053200@www.grenoble-rando-universite.fr
SUMMARY:[Annulé] Vacances Février : Raid Raquettes 2024
DESCRIPTION:Sortie annulée\, pas assez de participants…. \nUne nouvelle itinérance sera proposée pendant les vacances d’avril. Destination prévisionnelle : le Beaumont. \nPour les vacances\, le club propose un raid raquettes en itinérance de 3 jours pour encore + profiter du soleil et de la neige (quand il y en a !). \nDates : du samedi 24 février au mardi 27 février * \n* les dates exactes et le nombre de jours seront confirmées suivant la disponibilité des personnes intéressées et les transports. \nDestination à voir d’ici là suivant enneigement… ex : Beaufortain\, Vercors\, Vanoise\, Ubaye\, … \nNiveau : + ou – intermédiaire mais l’itinéraire dépendra de l’expérience des participants\, possibilité de réaliser un petit sommet par exemple \nRDV apéro préparation du raid : jeudi 15 février à 19h au local du club :  pour prévoir ensemble la destination et préparer l’organisation pratique de la randonnée (transport\, repas\, hébergements). \nHébergements en cabanes (éventuellement 1 refuge non gardé)\, transport du matelas et sac de couchage. \nPré-Inscriptions en commentaire ci-dessous en indiquant ton prénom\, nom et si tu as éventuellement une voiture\n \nCoût : 5€ / jour pour l’encadrement + 5€ / jour contribution au prêt de matériel kit DVA-Pelle-Sonde et/ou raquettes à neige\n+ matériel pour dormir (sac de couchage\, matelas)\nTotal : 30€  (15€ encadrement + 15€ pour le matériel)\n+ éventuel frais de covoiturage (transport en commun gratuit) + repas à partager \nVincent Martin \nAccompagnateur en montagne
URL:https://www.grenoble-rando-universite.fr/event/vacances-fevrier-raid-raquettes/
CATEGORIES:Rando Raquettes
ATTACH;FMTTYPE=image/jpeg:https://www.grenoble-rando-universite.fr/wp-content/uploads/2019/02/raid-raquettes-ubaye-chambeyron-alpes-ecotourisme.eu_.jpg
END:VEVENT
END:VCALENDAR