BEGIN:VCALENDAR
VERSION:2.0
PRODID:-// - ECPv5.14.0.4//NONSGML v1.0//EN
CALSCALE:GREGORIAN
METHOD:PUBLISH
X-ORIGINAL-URL:https://www.grenoble-rando-universite.fr
X-WR-CALDESC:évènements pour 
BEGIN:VTIMEZONE
TZID:UTC
BEGIN:STANDARD
TZOFFSETFROM:+0000
TZOFFSETTO:+0000
TZNAME:UTC
DTSTART:20260101T000000
END:STANDARD
END:VTIMEZONE
BEGIN:VEVENT
DTSTART;TZID=UTC:20260131T080000
DTEND;TZID=UTC:20260201T170000
DTSTAMP:20260421T184000
CREATED:20251223T112419Z
LAST-MODIFIED:20260108T100838Z
UID:15838-1769846400-1769965200@www.grenoble-rando-universite.fr
SUMMARY:J'peux pas j'ai raquettes - 3ème édition - 31 janvier / 1er février
DESCRIPTION:Le week-end du 31/01 et 01/02\, c’est le début de la troisième édition de notre évènement de randos raquettes à la journée sans voiture ! \nJ’Peux Pas J’ai Raquettes\, c’est quatre randos à la journée sur deux week-end dans les massifs autour de Grenoble (Chartreuse\, Belledonne et Vercors) à destination des étudiant⸱es et non-étudiant⸱es. Ce sera l’occasion de découvrir la pratique des raquettes et d’en profiter avec de nouvelles personnes. Un⸱e accompagnateur⸱rice moyenne montagne sera présent⸱e sur chaque rando et partagera ses connaissances naturalistes. Des interventions sur l’utilisation de DVA sont prévues sur certaines randos afin de pratiquer les sports d’hiver en toute sécurité !\n100% réalisé en transports en commun\, cet évènement permet aussi de sensibiliser sur les questions de mobilité douce dès le début de la pratique de la montagne. \n-> Programme et réservations ICI ! <- \n 
URL:https://www.grenoble-rando-universite.fr/event/jpeux-pas-jai-raquettes-3eme-edition-31-janvier-1er-fevrier/
CATEGORIES:Evènement,Rando Raquettes
ATTACH;FMTTYPE=image/png:https://www.grenoble-rando-universite.fr/wp-content/uploads/2025/12/Visuel-JPPGR.png
END:VEVENT
END:VCALENDAR