BEGIN:VCALENDAR
VERSION:2.0
PRODID:-// - ECPv5.14.0.4//NONSGML v1.0//EN
CALSCALE:GREGORIAN
METHOD:PUBLISH
X-ORIGINAL-URL:https://www.grenoble-rando-universite.fr
X-WR-CALDESC:évènements pour 
BEGIN:VTIMEZONE
TZID:Europe/Paris
BEGIN:DAYLIGHT
TZOFFSETFROM:+0100
TZOFFSETTO:+0200
TZNAME:CEST
DTSTART:20260329T010000
END:DAYLIGHT
BEGIN:STANDARD
TZOFFSETFROM:+0200
TZOFFSETTO:+0100
TZNAME:CET
DTSTART:20261025T010000
END:STANDARD
END:VTIMEZONE
BEGIN:VEVENT
DTSTART;TZID=Europe/Paris:20260214T080000
DTEND;TZID=Europe/Paris:20260215T170000
DTSTAMP:20260421T172134
CREATED:20260205T095427Z
LAST-MODIFIED:20260205T100738Z
UID:15965-1771056000-1771174800@www.grenoble-rando-universite.fr
SUMMARY:14-15/02 - We Igloo 2026
DESCRIPTION:Un week-end raquettes pour construire son igloo et dormir dedans bien sûr ! \nProgramme :\nSamedi matin : montée (environ 800m de dénivelé) / après-midi : construction des igloos\nDimanche matin : randonnée à un col ou petit sommet / après-midi : descente \nRéunion obligatoire pour organiser la sortie et emprunter le matériel le jeudi 8 février à 18h au local \nMatériel à avoir ou à emprunter au club : \n\nPique-nique pour le midi\, 1L d’eau minimum\nRaquettes à neige\, kit sécurité DVA-Pelle-Sonde\, bâtons\nvoir la liste de matériel conseillée pour les randos raquettes\nPour la nuit en igloo :\n– bâche (prêtée par le club)\n– matelas (mousse ou gonflable)\n– sac de couchage (température confort 0°C ou mieux)\n\nCoûts : \n\nParticipation à l’encadrement : 10€ pour le we\nContribution en cas de prêt de matériel : raquettes et/ou kit sécurité DVA-Pelle-Sonde et/ou sac de couchage : 5 ou 10€ pour le we\nprêt gratuit de bâtons\, guêtres\, sac à dos\, matelas\,… dans la limite des stocks disponibles\n\n+ partage des frais de transport (bus ou covoiturage/autopartage) : 10-15€/personne maximum \nInscriptions : (10 places environ) sur Helloasso : helloasso.com/associations/alpes-la/evenements/14-15-02-2026-we-igloo-avec-vincent\n+ Réunion obligatoire pour organiser la sortie et emprunter le matériel le jeudi 12 février à 18h au local du club \nSi tu as une voiture (ou le permis de conduire et ok pour conduire une voiture en autopartage Citiz)\, indique le en commentaire (avec le modèle/nombre de places)\n \nLe matériel emprunté sera rendu et déposé au local le soir de la sortie \nDestination à confirmer suivant météo et conditions neige : Belledonne\, Vercors\, Ecrins (si on a des voitures)\, … \nRandonnée encadrée par un accompagnateur en montagne \nVincent Martin
URL:https://www.grenoble-rando-universite.fr/event/14-15-02-we-igloo-2026/
CATEGORIES:Rando Raquettes
ATTACH;FMTTYPE=image/jpeg:https://www.grenoble-rando-universite.fr/wp-content/uploads/2019/12/igloo-construction-rando-raquettes.jpg
ORGANIZER;CN="Vincent%20Accompagnateur%20en%20Montagne":MAILTO:vincent.martinmasse+rando@gmail.com
END:VEVENT
END:VCALENDAR